BEGIN:VCALENDAR
VERSION:2.0
PRODID:spatie/icalendar-generator
DESCRIPTION:Events from Greenfield Public Schools
X-WR-CALDESC:Events from Greenfield Public Schools
REFRESH-INTERVAL;VALUE=DURATION:PT1440M
X-PUBLISHED-TTL:PT1440M
BEGIN:VTIMEZONE
TZID:America/New_York
BEGIN:DAYLIGHT
DTSTART:20230312T020000Z
TZOFFSETFROM:-0500
TZOFFSETTO:-0400
END:DAYLIGHT
BEGIN:STANDARD
DTSTART:20231105T020000Z
TZOFFSETFROM:-0400
TZOFFSETTO:-0500
END:STANDARD
BEGIN:DAYLIGHT
DTSTART:20240310T020000Z
TZOFFSETFROM:-0500
TZOFFSETTO:-0400
END:DAYLIGHT
END:VTIMEZONE
BEGIN:VTIMEZONE
TZID:UTC
BEGIN:STANDARD
DTSTART:20250726T081926Z
TZOFFSETFROM:+0000
TZOFFSETTO:+0000
END:STANDARD
END:VTIMEZONE
BEGIN:VEVENT
UID:10-10
DTSTAMP:20260422T081926Z
SUMMARY:Reenvisioning our School Facilities Subcommittee meeting 10/5
LOCATION:Greenfield Public School District
ORGANIZER;CN=lauric1:MAILTO:lauric1@gpsk12.org
DTSTART;TZID=America/New_York:20231005T161500
DTEND;TZID=America/New_York:20231005T171500
X-ALT-DESC;FMTTYPE=TEXT/HTML:Click here to view the 10/5/23 Reenvisioning o
 ur School Facilities Subcommittee meeting
CATEGORIES:General
URL;VALUE=URI:https://gpsk12.org/events/reenvisioning-our-school-facilities
 -subcommittee-meeting-10-5/?mc_id=10
METHOD:PUBLISH
END:VEVENT
END:VCALENDAR