BEGIN:VCALENDAR
VERSION:2.0
PRODID:spatie/icalendar-generator
DESCRIPTION:Events from Greenfield Public Schools
X-WR-CALDESC:Events from Greenfield Public Schools
REFRESH-INTERVAL;VALUE=DURATION:PT1440M
X-PUBLISHED-TTL:PT1440M
BEGIN:VTIMEZONE
TZID:America/New_York
BEGIN:STANDARD
DTSTART:20241103T020000Z
TZOFFSETFROM:-0400
TZOFFSETTO:-0500
END:STANDARD
BEGIN:DAYLIGHT
DTSTART:20250309T020000Z
TZOFFSETFROM:-0500
TZOFFSETTO:-0400
END:DAYLIGHT
END:VTIMEZONE
BEGIN:VTIMEZONE
TZID:UTC
BEGIN:STANDARD
DTSTART:20250725T082647Z
TZOFFSETFROM:+0000
TZOFFSETTO:+0000
END:STANDARD
END:VTIMEZONE
BEGIN:VEVENT
UID:170-159
DTSTAMP:20260421T082647Z
SUMMARY:Executive Subcommittee Meeting 3/6
LOCATION:Greenfield Public School District
ORGANIZER;CN=lauric1:MAILTO:lauric1@gpsk12.org
DTSTART;TZID=America/New_York:20250306T173000
DTEND;TZID=America/New_York:20250306T183000
X-ALT-DESC;FMTTYPE=TEXT/HTML:Click here to view the agenda and materials fo
 r the 3/6/25 executive subcommittee meeting
CATEGORIES:General
URL;VALUE=URI:https://gpsk12.org/events/executive-subcommittee-meeting-3-6/
 ?mc_id=170
METHOD:PUBLISH
END:VEVENT
END:VCALENDAR